BEGIN:VCALENDAR
VERSION:2.0
PRODID:icalendar-ruby
CALSCALE:GREGORIAN
METHOD:PUBLISH
BEGIN:VEVENT
DTSTAMP:20260424T130439Z
UID:824-509863@oursaviourchurch.ca
DTSTART;VALUE=DATE:20260817
DTEND;VALUE=DATE:20260821
CLASS:PUBLIC
CREATED:20260415T124950
DESCRIPTION:
LAST-MODIFIED:20260415T124950
LOCATION:
SUMMARY:Free Vacation Bible School
URL;VALUE=URI:https://www.oursaviourchurch.ca/events/free-vacation-bible-sc
 hool/2026-08-17
ATTACH;FILENAME=VBS-Poster.jpg;FMTTYPE=image/jpeg:https://dq5pwpg1q8ru0.clo
 udfront.net/2026/04/15/19/49/50/076f8307-63e6-425f-a1d9-975fc45eaced/VBS-P
 oster.jpg
END:VEVENT
END:VCALENDAR
