BEGIN:VCALENDAR
VERSION:2.0
PRODID:icalendar-ruby
CALSCALE:GREGORIAN
METHOD:PUBLISH
BEGIN:VEVENT
DTSTAMP:20260424T130321Z
UID:821-485096@oursaviourchurch.ca
DTSTART:20260426T170000Z
DTEND:20260426T190000Z
CLASS:PUBLIC
CREATED:20260406T010354
DESCRIPTION:
LAST-MODIFIED:20260406T010354
LOCATION:
SUMMARY:Bring a Friend to Church
URL;VALUE=URI:https://www.oursaviourchurch.ca/events/bring-a-friend-to-chur
 ch/2026-04-26
ATTACH;FILENAME=Bring-a-Friend-to-Church-Website.jpg;FMTTYPE=image/jpeg:htt
 ps://dq5pwpg1q8ru0.cloudfront.net/2026/04/06/08/03/24/10674950-a441-4565-9
 eda-da60f3010cb0/Bring-a-Friend-to-Church-Website.jpg
END:VEVENT
END:VCALENDAR
